BEGIN:VCALENDAR
VERSION:2.0
BEGIN:VEVENT
CLASS:PUBLIC
DESCRIPTION:Expectativa dos  produtores para a nova Lei do Gás\, com Luiz Costamilan\nDate and Time - Aug 12\, 2020 5:00 PM to 6:00 PM\nVenue -  https://youtu.be/KDqNlNw7q1I\nA agência epbr conversa ao vivo com Luiz Costamilan\, secretário executivo de Gás Natural do IBP\, sobre a visão dos produtores de gás natural para o mercado após a eventual aprovação do novo marco legal do setor.\n\n
DTSTART:20200812T200000Z
DTEND:20200812T210000Z
LOCATION: https://youtu.be/KDqNlNw7q1I
SUMMARY;LANGUAGE=en-us:Expectativa dos  produtores para a nova Lei do Gás, com Luiz Costamilan
END:VEVENT
END:VCALENDAR